BEGIN:VCALENDAR
VERSION:2.0
PRODID:Suivi de vos réservations
BEGIN:VEVENT
UID:69e6dde32627f
DTSTART:20250822T150000Z
SEQUENCE:0
TRANSP:OPAQUE
DTEND:20250828T083000Z
URL:https://mon-espace.gites-67.alsace/mes-reservations/detail/R250698341
LOCATION:3 Rue du Pétrin\, 67520 Marlenheim France
X-APPLE-STRUCTURED-LOCATION;VALUE=URI;X-ADDRESS="3 Rue du Pétrin, 67520 Ma
 rlenheim France";X-APPLE-RADIUS=49;X-TITLE=Gîte Chez Mamema:geo:7.488146,
 48.622437
GEO:7.488146;48.622437
SUMMARY:[R250698341][H67G014399] Gîte Chez Mamema
CLASS:PUBLIC
DESCRIPTION:Statut : Option de réservation\nVoyageur : Mme Christiane STOR
 CK\nTéléphone : +33687348042\nAdresse e-mail : christ2.storck@orange.fr
ORGANIZER:Mme Christiane STORCK
DTSTAMP:20260421T041603Z
END:VEVENT
BEGIN:VEVENT
UID:69e6dde32775e
DTSTART:20250528T150000Z
SEQUENCE:0
TRANSP:OPAQUE
DTEND:20250601T083000Z
URL:https://mon-espace.gites-67.alsace/mes-reservations/detail/R250630817
LOCATION:3 Rue du Pétrin\, 67520 Marlenheim France
X-APPLE-STRUCTURED-LOCATION;VALUE=URI;X-ADDRESS="3 Rue du Pétrin, 67520 Ma
 rlenheim France";X-APPLE-RADIUS=49;X-TITLE=Gîte Chez Mamema:geo:7.488146,
 48.622437
GEO:7.488146;48.622437
SUMMARY:[R250630817][H67G014399] Gîte Chez Mamema
CLASS:PUBLIC
DESCRIPTION:Statut : Réservation payée\nVoyageur : M et Mme Carine BOUCKA
 ERT\nTéléphone : 050815361\nAdresse e-mail : carine.b@outlook.be
ORGANIZER:M et Mme Carine BOUCKAERT
DTSTAMP:20260421T041603Z
END:VEVENT
BEGIN:VEVENT
UID:69e6dde3293c3
DTSTART:20250425T150000Z
SEQUENCE:0
TRANSP:OPAQUE
DTEND:20250427T083000Z
URL:https://mon-espace.gites-67.alsace/mes-reservations/detail/R250633704
LOCATION:3 Rue du Pétrin\, 67520 Marlenheim France
X-APPLE-STRUCTURED-LOCATION;VALUE=URI;X-ADDRESS="3 Rue du Pétrin, 67520 Ma
 rlenheim France";X-APPLE-RADIUS=49;X-TITLE=Gîte Chez Mamema:geo:7.488146,
 48.622437
GEO:7.488146;48.622437
SUMMARY:[R250633704][H67G014399] Gîte Chez Mamema
CLASS:PUBLIC
DESCRIPTION:Statut : Réservation payée\nVoyageur : M Théo EGINARD\nTél
 éphone : +33677980734\nAdresse e-mail : ungladman@gmail.com
ORGANIZER:M Théo EGINARD
DTSTAMP:20260421T041603Z
END:VEVENT
BEGIN:VEVENT
UID:69e6dde329eca
DTSTART:20251218T160000Z
SEQUENCE:0
TRANSP:OPAQUE
DTEND:20251221T093000Z
URL:https://mon-espace.gites-67.alsace/mes-reservations/detail/R250717509
LOCATION:3 Rue du Pétrin\, 67520 Marlenheim France
X-APPLE-STRUCTURED-LOCATION;VALUE=URI;X-ADDRESS="3 Rue du Pétrin, 67520 Ma
 rlenheim France";X-APPLE-RADIUS=49;X-TITLE=Gîte Chez Mamema:geo:7.488146,
 48.622437
GEO:7.488146;48.622437
SUMMARY:[R250717509][H67G014399] Gîte Chez Mamema
CLASS:PUBLIC
DESCRIPTION:Statut : Réservation payée\nVoyageur : M Adrien CAT BLONDEAU\
 nTéléphone : +33617289203\nAdresse e-mail : adrien.catblondeau@laposte.n
 et
ORGANIZER:M Adrien CAT BLONDEAU
DTSTAMP:20260421T041603Z
END:VEVENT
BEGIN:VEVENT
UID:69e6dde32a6b3
DTSTART:20251025T150000Z
SEQUENCE:0
TRANSP:OPAQUE
DTEND:20251101T093000Z
URL:https://mon-espace.gites-67.alsace/mes-reservations/detail/R250724162
LOCATION:3 Rue du Pétrin\, 67520 Marlenheim France
X-APPLE-STRUCTURED-LOCATION;VALUE=URI;X-ADDRESS="3 Rue du Pétrin, 67520 Ma
 rlenheim France";X-APPLE-RADIUS=49;X-TITLE=Gîte Chez Mamema:geo:7.488146,
 48.622437
GEO:7.488146;48.622437
SUMMARY:[R250724162][H67G014399] Gîte Chez Mamema
CLASS:PUBLIC
DESCRIPTION:Statut : Réservation payée\nVoyageur : Mme Nathalie  JOUIN \n
 Téléphone : +33601824544\nAdresse e-mail : olive-nath@9online.fr
ORGANIZER:Mme Nathalie  JOUIN 
DTSTAMP:20260421T041603Z
END:VEVENT
BEGIN:VEVENT
UID:69e6dde32adf7
DTSTART:20251126T160000Z
SEQUENCE:0
TRANSP:OPAQUE
DTEND:20251128T093000Z
URL:https://mon-espace.gites-67.alsace/mes-reservations/detail/R250739005
LOCATION:3 Rue du Pétrin\, 67520 Marlenheim France
X-APPLE-STRUCTURED-LOCATION;VALUE=URI;X-ADDRESS="3 Rue du Pétrin, 67520 Ma
 rlenheim France";X-APPLE-RADIUS=49;X-TITLE=Gîte Chez Mamema:geo:7.488146,
 48.622437
GEO:7.488146;48.622437
SUMMARY:[R250739005][H67G014399] Gîte Chez Mamema
CLASS:PUBLIC
DESCRIPTION:Statut : Réservation payée\nVoyageur : UEHC LAXOU\nTéléphon
 e : +33611664503\nAdresse e-mail : uehc-laxou@justice.fr\nCommentaire cent
 rale : Lettre d'engagement et caution à l'agence de Strasbourg
ORGANIZER:UEHC LAXOU
DTSTAMP:20260421T041603Z
END:VEVENT
BEGIN:VEVENT
UID:69e6dde32b538
DTSTART:20260126T160000Z
SEQUENCE:0
TRANSP:OPAQUE
DTEND:20260223T093000Z
URL:https://mon-espace.gites-67.alsace/mes-reservations/detail/R260759264
LOCATION:3 Rue du Pétrin\, 67520 Marlenheim France
X-APPLE-STRUCTURED-LOCATION;VALUE=URI;X-ADDRESS="3 Rue du Pétrin, 67520 Ma
 rlenheim France";X-APPLE-RADIUS=49;X-TITLE=Gîte Chez Mamema:geo:7.488146,
 48.622437
GEO:7.488146;48.622437
SUMMARY:[R260759264][H67G014399] Gîte Chez Mamema
CLASS:PUBLIC
DESCRIPTION:Statut : Réservation payée\nVoyageur : BFC CONSTRUCTIONS\nTé
 léphone : 0475259969\nAdresse e-mail : m.maillet@bfc-constructions.fr
ORGANIZER:BFC CONSTRUCTIONS
DTSTAMP:20260421T041603Z
END:VEVENT
BEGIN:VEVENT
UID:69e6dde32bcf0
DTSTART:20260223T160000Z
SEQUENCE:0
TRANSP:OPAQUE
DTEND:20260302T093000Z
URL:https://mon-espace.gites-67.alsace/mes-reservations/detail/R260770513
LOCATION:3 Rue du Pétrin\, 67520 Marlenheim France
X-APPLE-STRUCTURED-LOCATION;VALUE=URI;X-ADDRESS="3 Rue du Pétrin, 67520 Ma
 rlenheim France";X-APPLE-RADIUS=49;X-TITLE=Gîte Chez Mamema:geo:7.488146,
 48.622437
GEO:7.488146;48.622437
SUMMARY:[R260770513][H67G014399] Gîte Chez Mamema
CLASS:PUBLIC
DESCRIPTION:Statut : Réservation payée\nVoyageur : BFC CONSTRUCTIONS\nTé
 léphone : 0475259969\nAdresse e-mail : m.maillet@bfc-constructions.fr
ORGANIZER:BFC CONSTRUCTIONS
DTSTAMP:20260421T041603Z
END:VEVENT
END:VCALENDAR